BEGIN:VCALENDAR
VERSION:2.0
PRODID:-//Sophicity/Tribune/Lithonia, GA
BEGIN:VEVENT
DTSTAMP:20260425T140003Z
UID:bc90973f-9ce3-420f-8b90-a9282563f984-4393
DTSTART:20260718T140000Z
DTEND:20260718T230000Z
LOCATION:Parking lot near Lithonia Park Fields
CLASS:PUBLIC
SUMMARY:Lithonia High School Alumni Picnic
END:VEVENT
END:VCALENDAR
