BEGIN:VCALENDAR
VERSION:2.0
PRODID:-//Sophicity/Tribune/Lithonia, GA
BEGIN:VEVENT
DTSTAMP:20260423T081938Z
UID:bc90973f-9ce3-420f-8b90-a9282563f984-4391
DTSTART:20260425T160000Z
DTEND:20260425T220000Z
CLASS:PUBLIC
SUMMARY:Bmmrs & Burgers
END:VEVENT
END:VCALENDAR
