BEGIN:VCALENDAR
VERSION:2.0
PRODID:-//Sophicity/Tribune/Lithonia, GA
BEGIN:VEVENT
DTSTAMP:20260423T133812Z
UID:bc90973f-9ce3-420f-8b90-a9282563f984-4370
DTSTART:20250719T160000Z
DTEND:20250719T220000Z
LOCATION:Freeman Memorial
CLASS:PUBLIC
SUMMARY:Lithonia Park
END:VEVENT
END:VCALENDAR
