BEGIN:VCALENDAR
VERSION:2.0
PRODID:-//Sophicity/Tribune/Lithonia, GA
BEGIN:VEVENT
DTSTAMP:20260423T120115Z
UID:bc90973f-9ce3-420f-8b90-a9282563f984-4368
DTSTART:20250707T130000Z
DTEND:20250707T130000Z
CLASS:PUBLIC
SUMMARY:Regular Meeting - Cancelled
END:VEVENT
END:VCALENDAR
