BEGIN:VCALENDAR
VERSION:2.0
PRODID:-//Sophicity/Tribune/Lithonia, GA
BEGIN:VEVENT
DTSTAMP:20260423T162713Z
UID:bc90973f-9ce3-420f-8b90-a9282563f984-4364
DTSTART:20250907T160000Z
DTEND:20250908T010000Z
LOCATION:Lithonia Park
CLASS:PUBLIC
SUMMARY:Mikey Sparkle (make-up date from 6/15/2025)
END:VEVENT
END:VCALENDAR
