BEGIN:VCALENDAR
VERSION:2.0
PRODID:-//Sophicity/Tribune/Lithonia, GA
BEGIN:VEVENT
DTSTAMP:20260423T133318Z
UID:bc90973f-9ce3-420f-8b90-a9282563f984-4362
DTSTART:20250802T160000Z
DTEND:20250803T020000Z
LOCATION:Lithonia Park
CLASS:PUBLIC
SUMMARY:Alumni Day - Southwest DeKalb
END:VEVENT
END:VCALENDAR
