BEGIN:VCALENDAR
VERSION:2.0
PRODID:-//Sophicity/Tribune/Lithonia, GA
BEGIN:VEVENT
DTSTAMP:20260423T162748Z
UID:bc90973f-9ce3-420f-8b90-a9282563f984-4360
DTSTART:20250920T200000Z
DTEND:20250921T020000Z
LOCATION:Lithonia Amphitheater
CLASS:PUBLIC
SUMMARY:Enigma Business Group
END:VEVENT
END:VCALENDAR
