BEGIN:VCALENDAR
VERSION:2.0
PRODID:-//Sophicity/Tribune/Lithonia, GA
BEGIN:VEVENT
DTSTAMP:20260423T132855Z
UID:bc90973f-9ce3-420f-8b90-a9282563f984-4359
DTSTART:20250726T150000Z
DTEND:20250726T150000Z
LOCATION:Lithonia Amphitheater 
CLASS:PUBLIC
SUMMARY:LDDA - TBA
END:VEVENT
END:VCALENDAR
