BEGIN:VCALENDAR
VERSION:2.0
PRODID:-//Sophicity/Tribune/Lithonia, GA
BEGIN:VEVENT
DTSTAMP:20260423T132943Z
UID:bc90973f-9ce3-420f-8b90-a9282563f984-4353
DTSTART:20250722T210000Z
DTEND:20250723T000000Z
LOCATION:Lithonia Amphitheater 
CLASS:PUBLIC
SUMMARY:Trucks and Tunes - community event
END:VEVENT
END:VCALENDAR
