BEGIN:VCALENDAR
VERSION:2.0
PRODID:-//Sophicity/Tribune/Lithonia, GA
BEGIN:VEVENT
DTSTAMP:20260423T104308Z
UID:bc90973f-9ce3-420f-8b90-a9282563f984-4345
DTSTART:20250521T220000Z
DTEND:20250522T000000Z
LOCATION:6980 Main Street
CLASS:PUBLIC
SUMMARY:MAY National Adolescent Health Month Educational Series
END:VEVENT
END:VCALENDAR
