BEGIN:VCALENDAR
VERSION:2.0
PRODID:-//Sophicity/Tribune/Lithonia, GA
BEGIN:VEVENT
DTSTAMP:20260423T104324Z
UID:bc90973f-9ce3-420f-8b90-a9282563f984-4333
DTSTART:20250530T140000Z
DTEND:20250530T140000Z
LOCATION:2449 Bruce Street Lithonia, GA 30058
CLASS:PUBLIC
SUMMARY:Flipping the Script on Aging Gracefully
END:VEVENT
END:VCALENDAR
