BEGIN:VCALENDAR
VERSION:2.0
PRODID:-//Sophicity/Tribune/Lithonia, GA
BEGIN:VEVENT
DTSTAMP:20260423T133659Z
UID:bc90973f-9ce3-420f-8b90-a9282563f984-4331
DTSTART:20250713T160000Z
DTEND:20250713T230000Z
CLASS:PUBLIC
SUMMARY:We The City - Volleyball and Kickball Tournament
END:VEVENT
END:VCALENDAR
