BEGIN:VCALENDAR
VERSION:2.0
PRODID:-//Sophicity/Tribune/Lithonia, GA
BEGIN:VEVENT
DTSTAMP:20260423T133045Z
UID:bc90973f-9ce3-420f-8b90-a9282563f984-4329
DTSTART:20250713T180000Z
DTEND:20250713T230000Z
LOCATION:Lithonia Park 
CLASS:PUBLIC
SUMMARY:Downtown Businesses Fun Day 
END:VEVENT
END:VCALENDAR
