BEGIN:VCALENDAR
VERSION:2.0
PRODID:-//Sophicity/Tribune/Lithonia, GA
BEGIN:VEVENT
DTSTAMP:20260423T104425Z
UID:bc90973f-9ce3-420f-8b90-a9282563f984-4327
DTSTART:20250525T120000Z
DTEND:20250525T160000Z
CLASS:PUBLIC
SUMMARY:Lithonia Park AM Breakfast 
END:VEVENT
END:VCALENDAR
