BEGIN:VCALENDAR
VERSION:2.0
PRODID:-//Sophicity/Tribune/Lithonia, GA
BEGIN:VEVENT
DTSTAMP:20260423T093312Z
UID:bc90973f-9ce3-420f-8b90-a9282563f984-4325
DTSTART:20250508T120000Z
DTEND:20250508T190000Z
LOCATION:Lithonia Amphitheater
CLASS:PUBLIC
SUMMARY:THRIVE Family Field Day
END:VEVENT
END:VCALENDAR
