BEGIN:VCALENDAR
VERSION:2.0
PRODID:-//Sophicity/Tribune/Lithonia, GA
BEGIN:VEVENT
DTSTAMP:20260423T105302Z
UID:bc90973f-9ce3-420f-8b90-a9282563f984-4323
DTSTART:20250521T150000Z
DTEND:20250522T200000Z
LOCATION:Lithonia Amphitheater
CLASS:PUBLIC
SUMMARY:End of Year Celebration - Level Up Program
END:VEVENT
END:VCALENDAR
