BEGIN:VCALENDAR
VERSION:2.0
PRODID:-//Sophicity/Tribune/Lithonia, GA
BEGIN:VEVENT
DTSTAMP:20260423T121017Z
UID:bc90973f-9ce3-420f-8b90-a9282563f984-4320
DTSTART:20250612T213000Z
DTEND:20250612T213000Z
CLASS:PUBLIC
SUMMARY:Lithonia Roundtable Discussions
END:VEVENT
END:VCALENDAR
