BEGIN:VCALENDAR
VERSION:2.0
PRODID:-//Sophicity/Tribune/Lithonia, GA
BEGIN:VEVENT
DTSTAMP:20260423T133111Z
UID:bc90973f-9ce3-420f-8b90-a9282563f984-4317
DTSTART:20250123T223000Z
DTEND:20250123T223000Z
CLASS:PUBLIC
SUMMARY:The City of Lithonia will be holding the Work Session Meeting Via Zoom on January 23, 2025 at 5:30 pm.
END:VEVENT
END:VCALENDAR
