BEGIN:VCALENDAR
VERSION:2.0
PRODID:-//Sophicity/Tribune/Lithonia, GA
BEGIN:VEVENT
DTSTAMP:20260423T133044Z
UID:bc90973f-9ce3-420f-8b90-a9282563f984-4316
DTSTART:20250121T130000Z
DTEND:20250121T220000Z
CLASS:PUBLIC
SUMMARY:City Hall will be Closed January 21, 2025 due to inclement weather.
END:VEVENT
END:VCALENDAR
