BEGIN:VCALENDAR
VERSION:2.0
PRODID:-//Sophicity/Tribune/Lithonia, GA
BEGIN:VEVENT
DTSTAMP:20260423T162820Z
UID:bc90973f-9ce3-420f-8b90-a9282563f984-4311
DTSTART:20251020T213000Z
DTEND:20251020T223000Z
LOCATION:6920 Main Street, Lithonia, GA 30058
CLASS:PUBLIC
SUMMARY:Work Session Meeting
END:VEVENT
END:VCALENDAR
