BEGIN:VCALENDAR
VERSION:2.0
PRODID:-//Sophicity/Tribune/Lithonia, GA
BEGIN:VEVENT
DTSTAMP:20260423T151159Z
UID:bc90973f-9ce3-420f-8b90-a9282563f984-4276
DTSTART:20251127T130000Z
DTEND:20251128T220000Z
CLASS:PUBLIC
SUMMARY:Thanksgiving Holiday
END:VEVENT
END:VCALENDAR
