BEGIN:VCALENDAR
VERSION:2.0
PRODID:-//Sophicity/Tribune/Lithonia, GA
BEGIN:VEVENT
DTSTAMP:20260423T151026Z
UID:bc90973f-9ce3-420f-8b90-a9282563f984-4275
DTSTART:20251111T130000Z
DTEND:20251111T220000Z
CLASS:PUBLIC
SUMMARY:Veteran's Day
END:VEVENT
END:VCALENDAR
