BEGIN:VCALENDAR
VERSION:2.0
PRODID:-//Sophicity/Tribune/Lithonia, GA
BEGIN:VEVENT
DTSTAMP:20260423T150309Z
UID:bc90973f-9ce3-420f-8b90-a9282563f984-4274
DTSTART:20250901T120000Z
DTEND:20250901T210000Z
CLASS:PUBLIC
SUMMARY:Labor Day
END:VEVENT
END:VCALENDAR
