BEGIN:VCALENDAR
VERSION:2.0
PRODID:-//Sophicity/Tribune/Lithonia, GA
BEGIN:VEVENT
DTSTAMP:20260423T120109Z
UID:bc90973f-9ce3-420f-8b90-a9282563f984-4273
DTSTART:20250704T120000Z
DTEND:20250704T210000Z
CLASS:PUBLIC
SUMMARY:Independence Day
END:VEVENT
END:VCALENDAR
