BEGIN:VCALENDAR
VERSION:2.0
PRODID:-//Sophicity/Tribune/Lithonia, GA
BEGIN:VEVENT
DTSTAMP:20260423T121001Z
UID:bc90973f-9ce3-420f-8b90-a9282563f984-4272
DTSTART:20250619T120000Z
DTEND:20250619T210000Z
CLASS:PUBLIC
SUMMARY:Juneteenth
END:VEVENT
END:VCALENDAR
