BEGIN:VCALENDAR
VERSION:2.0
PRODID:-//Sophicity/Tribune/Lithonia, GA
BEGIN:VEVENT
DTSTAMP:20260423T104249Z
UID:bc90973f-9ce3-420f-8b90-a9282563f984-4271
DTSTART:20250526T120000Z
DTEND:20250526T210000Z
CLASS:PUBLIC
SUMMARY:Memorial Day
END:VEVENT
END:VCALENDAR
