BEGIN:VCALENDAR
VERSION:2.0
PRODID:-//Sophicity/Tribune/Lithonia, GA
BEGIN:VEVENT
DTSTAMP:20260423T133110Z
UID:bc90973f-9ce3-420f-8b90-a9282563f984-4270
DTSTART:20250120T130000Z
DTEND:20250120T220000Z
CLASS:PUBLIC
SUMMARY:Martin Luther King Holiday
END:VEVENT
END:VCALENDAR
