BEGIN:VCALENDAR
VERSION:2.0
PRODID:-//Sophicity/Tribune/Lithonia, GA
BEGIN:VEVENT
DTSTAMP:20260423T120849Z
UID:bc90973f-9ce3-420f-8b90-a9282563f984-4269
DTSTART:20250615T160000Z
DTEND:20250616T010000Z
LOCATION:Lithonia Amphitheater
CLASS:PUBLIC
SUMMARY:Postponed - Jamaica Day
END:VEVENT
END:VCALENDAR
