BEGIN:VCALENDAR
VERSION:2.0
PRODID:-//Sophicity/Tribune/Lithonia, GA
BEGIN:VEVENT
DTSTAMP:20260423T093231Z
UID:bc90973f-9ce3-420f-8b90-a9282563f984-4268
DTSTART:20250503T190000Z
DTEND:20250504T010000Z
LOCATION:Lithonia Park - Both Fields
CLASS:PUBLIC
SUMMARY:Igloo
END:VEVENT
END:VCALENDAR
