BEGIN:VCALENDAR
VERSION:2.0
PRODID:-//Sophicity/Tribune/Lithonia, GA
BEGIN:VEVENT
DTSTAMP:20260423T104324Z
UID:bc90973f-9ce3-420f-8b90-a9282563f984-4267
DTSTART:20250525T160000Z
DTEND:20250526T000000Z
LOCATION:Lithonia Amphitheater
CLASS:PUBLIC
SUMMARY:Family Fun Day - Guianese
END:VEVENT
END:VCALENDAR
