BEGIN:VCALENDAR
VERSION:2.0
PRODID:-//Sophicity/Tribune/Lithonia, GA
BEGIN:VEVENT
DTSTAMP:20260423T132913Z
UID:bc90973f-9ce3-420f-8b90-a9282563f984-4261
DTSTART:20250120T180000Z
DTEND:20250120T200000Z
CLASS:PUBLIC
SUMMARY:Lithonia Park Clean Up
END:VEVENT
END:VCALENDAR
