BEGIN:VCALENDAR
VERSION:2.0
PRODID:-//Sophicity/Tribune/Lithonia, GA
BEGIN:VEVENT
DTSTAMP:20260423T162713Z
UID:bc90973f-9ce3-420f-8b90-a9282563f984-4254
DTSTART:20241104T223000Z
DTEND:20241104T223000Z
CLASS:PUBLIC
SUMMARY:City Council Meeting Rescheduled
END:VEVENT
END:VCALENDAR
