BEGIN:VCALENDAR
VERSION:2.0
PRODID:-//Sophicity/Tribune/Lithonia, GA
BEGIN:VEVENT
DTSTAMP:20260423T175922Z
UID:bc90973f-9ce3-420f-8b90-a9282563f984-4248
DTSTART:20240921T133000Z
DTEND:20240921T163000Z
CLASS:PUBLIC
SUMMARY:Quarterly Clean Up
END:VEVENT
END:VCALENDAR
