BEGIN:VCALENDAR
VERSION:2.0
PRODID:-//Sophicity/Tribune/Lithonia, GA
BEGIN:VEVENT
DTSTAMP:20260423T175922Z
UID:bc90973f-9ce3-420f-8b90-a9282563f984-4244
DTSTART:20240908T213000Z
DTEND:20240908T213000Z
LOCATION:Lithonia Amphitheatre
CLASS:PUBLIC
SUMMARY:Chante Moore and Friends
END:VEVENT
END:VCALENDAR
