BEGIN:VCALENDAR
VERSION:2.0
PRODID:-//Sophicity/Tribune/Lithonia, GA
BEGIN:VEVENT
DTSTAMP:20260423T180016Z
UID:bc90973f-9ce3-420f-8b90-a9282563f984-4225
DTSTART:20241007T213000Z
DTEND:20241007T223000Z
LOCATION:6920 Main Street, Lithonia, GA 30058
CLASS:PUBLIC
SUMMARY:City Council Meeting 5:30 PM
END:VEVENT
END:VCALENDAR
