BEGIN:VCALENDAR
VERSION:2.0
PRODID:-//Sophicity/Tribune/Lithonia, GA
BEGIN:VEVENT
DTSTAMP:20260423T121017Z
UID:bc90973f-9ce3-420f-8b90-a9282563f984-4218
DTSTART:20240304T223000Z
DTEND:20240304T233000Z
LOCATION:6920 Main Street, Lithonia, GA 30058
CLASS:PUBLIC
SUMMARY:City Council Meeting 5:30 PM
END:VEVENT
END:VCALENDAR
