BEGIN:VCALENDAR
VERSION:2.0
PRODID:-//Sophicity/Tribune/Lithonia, GA
BEGIN:VEVENT
DTSTAMP:20260423T193354Z
UID:bc90973f-9ce3-420f-8b90-a9282563f984-4202
DTSTART:20231027T220000Z
DTEND:20231028T010000Z
CLASS:PUBLIC
SUMMARY:Yellow Brick House 2nd Annual Trunk-or-Treat
END:VEVENT
END:VCALENDAR
