BEGIN:VCALENDAR
VERSION:2.0
PRODID:-//Sophicity/Tribune/Lithonia, GA
BEGIN:VEVENT
DTSTAMP:20260423T162643Z
UID:bc90973f-9ce3-420f-8b90-a9282563f984-4199
DTSTART:20231126T230000Z
DTEND:20231127T003000Z
CLASS:PUBLIC
SUMMARY:Tree Lighting
END:VEVENT
END:VCALENDAR
