BEGIN:VCALENDAR
VERSION:2.0
PRODID:-//Sophicity/Tribune/Lithonia, GA
BEGIN:VEVENT
DTSTAMP:20260423T180016Z
UID:bc90973f-9ce3-420f-8b90-a9282563f984-4198
DTSTART:20231031T220000Z
DTEND:20231101T010000Z
CLASS:PUBLIC
SUMMARY:Trunk or Treat
END:VEVENT
END:VCALENDAR
