BEGIN:VCALENDAR
VERSION:2.0
PRODID:-//Sophicity/Tribune/Lithonia, GA
BEGIN:VEVENT
DTSTAMP:20260423T162619Z
UID:bc90973f-9ce3-420f-8b90-a9282563f984-4192
DTSTART:20230805T150000Z
DTEND:20230805T180000Z
LOCATION:City Hall
CLASS:PUBLIC
SUMMARY:AEP Medicare Enrollment Event
END:VEVENT
END:VCALENDAR
