BEGIN:VCALENDAR
VERSION:2.0
PRODID:-//Sophicity/Tribune/Lithonia, GA
BEGIN:VEVENT
DTSTAMP:20260423T162820Z
UID:bc90973f-9ce3-420f-8b90-a9282563f984-4188
DTSTART:20230805T150000Z
DTEND:20230805T180000Z
CLASS:PUBLIC
SUMMARY:Back to School Bash
END:VEVENT
END:VCALENDAR
