BEGIN:VCALENDAR
VERSION:2.0
PRODID:-//Sophicity/Tribune/Lithonia, GA
BEGIN:VEVENT
DTSTAMP:20260423T180003Z
UID:bc90973f-9ce3-420f-8b90-a9282563f984-4186
DTSTART:20230812T160000Z
DTEND:20230812T180000Z
CLASS:PUBLIC
SUMMARY:Back to School Celebration
END:VEVENT
END:VCALENDAR
