BEGIN:VCALENDAR
VERSION:2.0
PRODID:-//Sophicity/Tribune/Lithonia, GA
BEGIN:VEVENT
DTSTAMP:20260423T193443Z
UID:bc90973f-9ce3-420f-8b90-a9282563f984-4184
DTSTART:20230916T160000Z
DTEND:20230916T200000Z
CLASS:PUBLIC
SUMMARY:Lithonia Market on Main
END:VEVENT
END:VCALENDAR
