BEGIN:VCALENDAR
VERSION:2.0
PRODID:-//Sophicity/Tribune/Lithonia, GA
BEGIN:VEVENT
DTSTAMP:20260423T162643Z
UID:bc90973f-9ce3-420f-8b90-a9282563f984-4182
DTSTART:20230729T140000Z
DTEND:20230729T190000Z
CLASS:PUBLIC
SUMMARY:Lithonia Market on Main
END:VEVENT
END:VCALENDAR
