BEGIN:VCALENDAR
VERSION:2.0
PRODID:-//Sophicity/Tribune/Lithonia, GA
BEGIN:VEVENT
DTSTAMP:20260423T162748Z
UID:bc90973f-9ce3-420f-8b90-a9282563f984-4180
DTSTART:20230716T180000Z
DTEND:20230717T004500Z
CLASS:PUBLIC
SUMMARY:Str8 N' Natural Movie Fest
END:VEVENT
END:VCALENDAR
