BEGIN:VCALENDAR
VERSION:2.0
PRODID:-//Sophicity/Tribune/Lithonia, GA
BEGIN:VEVENT
DTSTAMP:20260423T193533Z
UID:bc90973f-9ce3-420f-8b90-a9282563f984-4168
DTSTART:20231014T220000Z
DTEND:20231015T030000Z
CLASS:PUBLIC
SUMMARY:Benefit Concert for Visionary Impaired Individuals in Georgia
END:VEVENT
END:VCALENDAR
