BEGIN:VCALENDAR
VERSION:2.0
PRODID:-//Sophicity/Tribune/Lithonia, GA
BEGIN:VEVENT
DTSTAMP:20260423T175922Z
UID:bc90973f-9ce3-420f-8b90-a9282563f984-4167
DTSTART:20230902T220000Z
DTEND:20230903T030000Z
CLASS:PUBLIC
SUMMARY:Musical Inspiration / Explosion
END:VEVENT
END:VCALENDAR
