BEGIN:VCALENDAR
VERSION:2.0
PRODID:-//Sophicity/Tribune/Lithonia, GA
BEGIN:VEVENT
DTSTAMP:20260423T145405Z
UID:bc90973f-9ce3-420f-8b90-a9282563f984-4164
DTSTART:20230620T150000Z
DTEND:20230620T160000Z
CLASS:PUBLIC
SUMMARY:Special Called Budget Work Session Meeting
END:VEVENT
END:VCALENDAR
