BEGIN:VCALENDAR
VERSION:2.0
PRODID:-//Sophicity/Tribune/Lithonia, GA
BEGIN:VEVENT
DTSTAMP:20260423T144307Z
UID:bc90973f-9ce3-420f-8b90-a9282563f984-4162
DTSTART:20230629T213000Z
DTEND:20230629T223000Z
CLASS:PUBLIC
SUMMARY:Millage Rate Public Hearing 5:30
END:VEVENT
END:VCALENDAR
