BEGIN:VCALENDAR
VERSION:2.0
PRODID:-//Sophicity/Tribune/Lithonia, GA
BEGIN:VEVENT
DTSTAMP:20260423T145212Z
UID:bc90973f-9ce3-420f-8b90-a9282563f984-4160
DTSTART:20230615T220000Z
DTEND:20230615T230000Z
CLASS:PUBLIC
SUMMARY:Millage Rate Public Hearing held in person 6:00 pm
END:VEVENT
END:VCALENDAR
